BEGIN:VCALENDAR
PRODID:-//spiritec//spiritec media library//EN
VERSION:2.0
METHOD:PUBLISH
BEGIN:VEVENT
UID:ical-2026-09-30-2222
DTSTART:20260930T173000Z
DTSTAMP:20260423T141901Z
LOCATION:Staatsoperette Saal
SUMMARY:die lustige witwe
DESCRIPTION:
CREATED:20260423T141901Z
DTEND:20260930T194500Z
END:VEVENT
END:VCALENDAR
