BEGIN:VCALENDAR
PRODID:-//spiritec//spiritec media library//EN
VERSION:2.0
METHOD:PUBLISH
BEGIN:VEVENT
UID:ical-2027-05-25-2215
DTSTART:20270525T173000Z
DTSTAMP:20260423T141912Z
LOCATION:Staatsoperette Saal
SUMMARY:Simsalabim
DESCRIPTION:
CREATED:20260423T141912Z
DTEND:20270525T203000Z
END:VEVENT
END:VCALENDAR
