BEGIN:VCALENDAR
PRODID:-//spiritec//spiritec media library//EN
VERSION:2.0
METHOD:PUBLISH
BEGIN:VEVENT
UID:ical-2027-04-25-2214
DTSTART:20270425T130000Z
DTSTAMP:20260423T141902Z
LOCATION:Staatsoperette Saal
SUMMARY:Simsalabim
DESCRIPTION:
CREATED:20260423T141902Z
DTEND:20270425T215900Z
END:VEVENT
END:VCALENDAR
