BEGIN:VCALENDAR
PRODID:-//spiritec//spiritec media library//EN
VERSION:2.0
METHOD:PUBLISH
BEGIN:VEVENT
UID:ical-2027-04-24-2213
DTSTART:20270424T173000Z
DTSTAMP:20260423T141656Z
LOCATION:Staatsoperette Saal
SUMMARY:Simsalabim
DESCRIPTION:
CREATED:20260423T141656Z
DTEND:20270424T215900Z
END:VEVENT
END:VCALENDAR
