BEGIN:VCALENDAR
PRODID:-//spiritec//spiritec media library//EN
VERSION:2.0
METHOD:PUBLISH
BEGIN:VEVENT
UID:ical-2027-03-06-2210
DTSTART:20270306T183000Z
DTSTAMP:20260423T141734Z
LOCATION:Staatsoperette Saal
SUMMARY:Simsalabim
DESCRIPTION:
CREATED:20260423T141734Z
DTEND:20270306T225900Z
END:VEVENT
END:VCALENDAR
