BEGIN:VCALENDAR
PRODID:-//spiritec//spiritec media library//EN
VERSION:2.0
METHOD:PUBLISH
BEGIN:VEVENT
UID:ical-2026-09-13-2207
DTSTART:20260913T130000Z
DTSTAMP:20260425T145502Z
LOCATION:Staatsoperette Saal
SUMMARY:Showtime!
DESCRIPTION:
CREATED:20260425T145502Z
DTEND:20260913T215900Z
END:VEVENT
END:VCALENDAR
