BEGIN:VCALENDAR
PRODID:-//spiritec//spiritec media library//EN
VERSION:2.0
METHOD:PUBLISH
BEGIN:VEVENT
UID:ical-2026-09-06-2206
DTSTART:20260906T130000Z
DTSTAMP:20260425T145501Z
LOCATION:Staatsoperette Saal
SUMMARY:Showtime!
DESCRIPTION:
CREATED:20260425T145501Z
DTEND:20260906T215900Z
END:VEVENT
END:VCALENDAR
