BEGIN:VCALENDAR
PRODID:-//spiritec//spiritec media library//EN
VERSION:2.0
METHOD:PUBLISH
BEGIN:VEVENT
UID:ical-2026-09-05-2205
DTSTART:20260905T160000Z
DTSTAMP:20260425T145508Z
LOCATION:Staatsoperette Saal
SUMMARY:Showtime!
DESCRIPTION:
CREATED:20260425T145508Z
DTEND:20260905T215900Z
END:VEVENT
END:VCALENDAR
