BEGIN:VCALENDAR
PRODID:-//spiritec//spiritec media library//EN
VERSION:2.0
METHOD:PUBLISH
BEGIN:VEVENT
UID:ical-2026-08-29-2204
DTSTART:20260829T160000Z
DTSTAMP:20260425T145304Z
LOCATION:Staatsoperette Saal
SUMMARY:Showtime!
DESCRIPTION:
CREATED:20260425T145304Z
DTEND:20260829T215900Z
END:VEVENT
END:VCALENDAR
