BEGIN:VCALENDAR
PRODID:-//spiritec//spiritec media library//EN
VERSION:2.0
METHOD:PUBLISH
BEGIN:VEVENT
UID:ical-2027-07-11-2202
DTSTART:20270711T130000Z
DTSTAMP:20260423T141534Z
LOCATION:Staatsoperette Saal
SUMMARY:Ball im Savoy
DESCRIPTION:
CREATED:20260423T141534Z
DTEND:20270711T215900Z
END:VEVENT
END:VCALENDAR
