BEGIN:VCALENDAR
PRODID:-//spiritec//spiritec media library//EN
VERSION:2.0
METHOD:PUBLISH
BEGIN:VEVENT
UID:ical-2027-06-06-2198
DTSTART:20270606T130000Z
DTSTAMP:20260423T141611Z
LOCATION:Staatsoperette Saal
SUMMARY:Ball im Savoy
DESCRIPTION:
CREATED:20260423T141611Z
DTEND:20270606T215900Z
END:VEVENT
END:VCALENDAR
