BEGIN:VCALENDAR
PRODID:-//spiritec//spiritec media library//EN
VERSION:2.0
METHOD:PUBLISH
BEGIN:VEVENT
UID:ical-2027-06-05-2197
DTSTART:20270605T173000Z
DTSTAMP:20260423T141534Z
LOCATION:Staatsoperette Saal
SUMMARY:Ball im Savoy
DESCRIPTION:
CREATED:20260423T141534Z
DTEND:20270605T215900Z
END:VEVENT
END:VCALENDAR
