BEGIN:VCALENDAR
PRODID:-//spiritec//spiritec media library//EN
VERSION:2.0
METHOD:PUBLISH
BEGIN:VEVENT
UID:ical-2027-06-29-2194
DTSTART:20270629T160000Z
DTSTAMP:20260424T002759Z
LOCATION:Kranfoyer
SUMMARY:Premierenfieber
DESCRIPTION:
CREATED:20260424T002759Z
DTEND:20270629T215900Z
END:VEVENT
END:VCALENDAR
