BEGIN:VCALENDAR
PRODID:-//spiritec//spiritec media library//EN
VERSION:2.0
METHOD:PUBLISH
BEGIN:VEVENT
UID:ical-2027-05-19-2193
DTSTART:20270519T160000Z
DTSTAMP:20260424T002909Z
LOCATION:Kranfoyer
SUMMARY:Premierenfieber
DESCRIPTION:
CREATED:20260424T002909Z
DTEND:20270519T215900Z
END:VEVENT
END:VCALENDAR
