BEGIN:VCALENDAR
PRODID:-//spiritec//spiritec media library//EN
VERSION:2.0
METHOD:PUBLISH
BEGIN:VEVENT
UID:ical-2027-02-03-2192
DTSTART:20270203T170000Z
DTSTAMP:20260424T002640Z
LOCATION:Kranfoyer
SUMMARY:Premierenfieber
DESCRIPTION:
CREATED:20260424T002640Z
DTEND:20270203T225900Z
END:VEVENT
END:VCALENDAR
