BEGIN:VCALENDAR
PRODID:-//spiritec//spiritec media library//EN
VERSION:2.0
METHOD:PUBLISH
BEGIN:VEVENT
UID:ical-2026-11-04-2191
DTSTART:20261104T170000Z
DTSTAMP:20260424T002759Z
LOCATION:Kranfoyer
SUMMARY:Premierenfieber
DESCRIPTION:
CREATED:20260424T002759Z
DTEND:20261104T225900Z
END:VEVENT
END:VCALENDAR
