BEGIN:VCALENDAR
PRODID:-//spiritec//spiritec media library//EN
VERSION:2.0
METHOD:PUBLISH
BEGIN:VEVENT
UID:ical-2026-09-15-2190
DTSTART:20260915T160000Z
DTSTAMP:20260424T002923Z
LOCATION:Foyer
SUMMARY:Premierenfieber
DESCRIPTION:
CREATED:20260424T002923Z
DTEND:20260915T215900Z
END:VEVENT
END:VCALENDAR
