BEGIN:VCALENDAR
PRODID:-//spiritec//spiritec media library//EN
VERSION:2.0
METHOD:PUBLISH
BEGIN:VEVENT
UID:ical-2027-07-09-2189
DTSTART:20270709T173000Z
DTSTAMP:20260425T114126Z
LOCATION:Staatsoperette Saal
SUMMARY:Pariser Leben
DESCRIPTION:
CREATED:20260425T114126Z
DTEND:20270709T215900Z
END:VEVENT
END:VCALENDAR
