BEGIN:VCALENDAR
PRODID:-//spiritec//spiritec media library//EN
VERSION:2.0
METHOD:PUBLISH
BEGIN:VEVENT
UID:ical-2027-06-20-2188
DTSTART:20270620T130000Z
DTSTAMP:20260425T113938Z
LOCATION:Staatsoperette Saal
SUMMARY:Pariser Leben
DESCRIPTION:
CREATED:20260425T113938Z
DTEND:20270620T215900Z
END:VEVENT
END:VCALENDAR
