BEGIN:VCALENDAR
PRODID:-//spiritec//spiritec media library//EN
VERSION:2.0
METHOD:PUBLISH
BEGIN:VEVENT
UID:ical-2027-05-28-2186
DTSTART:20270528T173000Z
DTSTAMP:20260425T113857Z
LOCATION:Staatsoperette Saal
SUMMARY:Pariser Leben
DESCRIPTION:
CREATED:20260425T113857Z
DTEND:20270528T215900Z
END:VEVENT
END:VCALENDAR
