BEGIN:VCALENDAR
PRODID:-//spiritec//spiritec media library//EN
VERSION:2.0
METHOD:PUBLISH
BEGIN:VEVENT
UID:ical-2027-05-27-2185
DTSTART:20270527T173000Z
DTSTAMP:20260425T114050Z
LOCATION:Staatsoperette Saal
SUMMARY:Pariser Leben
DESCRIPTION:
CREATED:20260425T114050Z
DTEND:20270527T215900Z
END:VEVENT
END:VCALENDAR
