BEGIN:VCALENDAR
PRODID:-//spiritec//spiritec media library//EN
VERSION:2.0
METHOD:PUBLISH
BEGIN:VEVENT
UID:ical-2027-03-12-2175
DTSTART:20270312T183000Z
DTSTAMP:20260423T144330Z
LOCATION:Staatsoperette Saal
SUMMARY:Kinostar!
DESCRIPTION:
CREATED:20260423T144330Z
DTEND:20270312T200000Z
END:VEVENT
END:VCALENDAR
