BEGIN:VCALENDAR
PRODID:-//spiritec//spiritec media library//EN
VERSION:2.0
METHOD:PUBLISH
BEGIN:VEVENT
UID:ical-2027-01-23-2171
DTSTART:20270123T183000Z
DTSTAMP:20260423T145104Z
LOCATION:Staatsoperette Saal
SUMMARY:Kinostar!
DESCRIPTION:
CREATED:20260423T145104Z
DTEND:20270123T200000Z
END:VEVENT
END:VCALENDAR
