BEGIN:VCALENDAR
PRODID:-//spiritec//spiritec media library//EN
VERSION:2.0
METHOD:PUBLISH
BEGIN:VEVENT
UID:ical-2026-11-22-2169
DTSTART:20261122T140000Z
DTSTAMP:20260423T144629Z
LOCATION:Staatsoperette Saal
SUMMARY:Kinostar!
DESCRIPTION:
CREATED:20260423T144629Z
DTEND:20261122T153000Z
END:VEVENT
END:VCALENDAR
