BEGIN:VCALENDAR
PRODID:-//spiritec//spiritec media library//EN
VERSION:2.0
METHOD:PUBLISH
BEGIN:VEVENT
UID:ical-2026-11-21-2168
DTSTART:20261121T183000Z
DTSTAMP:20260423T144536Z
LOCATION:Staatsoperette Saal
SUMMARY:Kinostar!
DESCRIPTION:
CREATED:20260423T144536Z
DTEND:20261121T200000Z
END:VEVENT
END:VCALENDAR
