BEGIN:VCALENDAR
PRODID:-//spiritec//spiritec media library//EN
VERSION:2.0
METHOD:PUBLISH
BEGIN:VEVENT
UID:ical-2027-01-15-2167
DTSTART:20270115T170000Z
DTSTAMP:20260425T145421Z
LOCATION:Staatsoperette Saal
SUMMARY:Hänsel und Gretel
DESCRIPTION:
CREATED:20260425T145421Z
DTEND:20270115T225900Z
END:VEVENT
END:VCALENDAR
