BEGIN:VCALENDAR
PRODID:-//spiritec//spiritec media library//EN
VERSION:2.0
METHOD:PUBLISH
BEGIN:VEVENT
UID:ical-2026-12-26-2165
DTSTART:20261226T140000Z
DTSTAMP:20260425T145508Z
LOCATION:Staatsoperette Saal
SUMMARY:Hänsel und Gretel
DESCRIPTION:
CREATED:20260425T145508Z
DTEND:20261226T225900Z
END:VEVENT
END:VCALENDAR
