BEGIN:VCALENDAR
PRODID:-//spiritec//spiritec media library//EN
VERSION:2.0
METHOD:PUBLISH
BEGIN:VEVENT
UID:ical-2026-12-20-2163
DTSTART:20261220T140000Z
DTSTAMP:20260425T145421Z
LOCATION:Staatsoperette Saal
SUMMARY:Hänsel und Gretel
DESCRIPTION:
CREATED:20260425T145421Z
DTEND:20261220T225900Z
END:VEVENT
END:VCALENDAR
