BEGIN:VCALENDAR
PRODID:-//spiritec//spiritec media library//EN
VERSION:2.0
METHOD:PUBLISH
BEGIN:VEVENT
UID:ical-2026-12-11-2161
DTSTART:20261211T100000Z
DTSTAMP:20260425T145548Z
LOCATION:Staatsoperette Saal
SUMMARY:Hänsel und Gretel
DESCRIPTION:
CREATED:20260425T145548Z
DTEND:20261211T225900Z
END:VEVENT
END:VCALENDAR
