BEGIN:VCALENDAR
PRODID:-//spiritec//spiritec media library//EN
VERSION:2.0
METHOD:PUBLISH
BEGIN:VEVENT
UID:ical-2026-12-05-2158
DTSTART:20261205T170000Z
DTSTAMP:20260425T145305Z
LOCATION:Staatsoperette Saal
SUMMARY:Hänsel und Gretel
DESCRIPTION:
CREATED:20260425T145305Z
DTEND:20261205T225900Z
END:VEVENT
END:VCALENDAR
