BEGIN:VCALENDAR
PRODID:-//spiritec//spiritec media library//EN
VERSION:2.0
METHOD:PUBLISH
BEGIN:VEVENT
UID:ical-2026-11-07-2154
DTSTART:20261107T183000Z
DTSTAMP:20260425T145245Z
LOCATION:Staatsoperette Saal
SUMMARY:Hänsel und Gretel
DESCRIPTION:
CREATED:20260425T145245Z
DTEND:20261107T225900Z
END:VEVENT
END:VCALENDAR
