BEGIN:VCALENDAR
PRODID:-//spiritec//spiritec media library//EN
VERSION:2.0
METHOD:PUBLISH
BEGIN:VEVENT
UID:ical-2026-11-11-2150
DTSTART:20261111T183000Z
DTSTAMP:20260423T172200Z
LOCATION:Staatsoperette Saal
SUMMARY:ich, eurydike
DESCRIPTION:
CREATED:20260423T172200Z
DTEND:20261111T194500Z
END:VEVENT
END:VCALENDAR
