BEGIN:VCALENDAR
PRODID:-//spiritec//spiritec media library//EN
VERSION:2.0
METHOD:PUBLISH
BEGIN:VEVENT
UID:ical-2026-11-10-2149
DTSTART:20261110T183000Z
DTSTAMP:20260423T171806Z
LOCATION:Staatsoperette Saal
SUMMARY:ich, eurydike
DESCRIPTION:
CREATED:20260423T171806Z
DTEND:20261110T194500Z
END:VEVENT
END:VCALENDAR
