BEGIN:VCALENDAR
PRODID:-//spiritec//spiritec media library//EN
VERSION:2.0
METHOD:PUBLISH
BEGIN:VEVENT
UID:ical-2027-07-08-2138
DTSTART:20270708T090000Z
DTSTAMP:20260423T204824Z
LOCATION:Staatsoperette Saal
SUMMARY:Emil und die Detektive
DESCRIPTION:
CREATED:20260423T204824Z
DTEND:20270708T215900Z
END:VEVENT
END:VCALENDAR
