BEGIN:VCALENDAR
PRODID:-//spiritec//spiritec media library//EN
VERSION:2.0
METHOD:PUBLISH
BEGIN:VEVENT
UID:ical-2027-07-06-2136
DTSTART:20270706T160000Z
DTSTAMP:20260423T204445Z
LOCATION:Staatsoperette Saal
SUMMARY:Emil und die Detektive
DESCRIPTION:
CREATED:20260423T204445Z
DTEND:20270706T215900Z
END:VEVENT
END:VCALENDAR
