BEGIN:VCALENDAR
PRODID:-//spiritec//spiritec media library//EN
VERSION:2.0
METHOD:PUBLISH
BEGIN:VEVENT
UID:ical-2027-07-02-2131
DTSTART:20270702T173000Z
DTSTAMP:20260423T204358Z
LOCATION:Staatsoperette Saal
SUMMARY:Emil und die Detektive
DESCRIPTION:
CREATED:20260423T204358Z
DTEND:20270702T215900Z
END:VEVENT
END:VCALENDAR
