BEGIN:VCALENDAR
PRODID:-//spiritec//spiritec media library//EN
VERSION:2.0
METHOD:PUBLISH
BEGIN:VEVENT
UID:ical-2027-06-09-2128
DTSTART:20270609T173000Z
DTSTAMP:20260423T141610Z
LOCATION:Staatsoperette Saal
SUMMARY:Cabaret
DESCRIPTION:
CREATED:20260423T141610Z
DTEND:20270609T215900Z
END:VEVENT
END:VCALENDAR
