BEGIN:VCALENDAR
PRODID:-//spiritec//spiritec media library//EN
VERSION:2.0
METHOD:PUBLISH
BEGIN:VEVENT
UID:ical-2027-03-24-2116
DTSTART:20270324T183000Z
DTSTAMP:20260423T172000Z
LOCATION:Staatsoperette Saal
SUMMARY:Anything Goes
DESCRIPTION:
CREATED:20260423T172000Z
DTEND:20270324T225900Z
END:VEVENT
END:VCALENDAR
