BEGIN:VCALENDAR
PRODID:-//spiritec//spiritec media library//EN
VERSION:2.0
METHOD:PUBLISH
BEGIN:VEVENT
UID:ical-2027-02-07-2110
DTSTART:20270207T140000Z
DTSTAMP:20260423T172156Z
LOCATION:Staatsoperette Saal
SUMMARY:Anything Goes
DESCRIPTION:
CREATED:20260423T172156Z
DTEND:20270207T225900Z
END:VEVENT
END:VCALENDAR
