BEGIN:VCALENDAR
PRODID:-//spiritec//spiritec media library//EN
VERSION:2.0
METHOD:PUBLISH
BEGIN:VEVENT
UID:ical-2027-02-06-2108
DTSTART:20270206T183000Z
DTSTAMP:20260423T171856Z
LOCATION:Staatsoperette Saal
SUMMARY:Anything Goes
DESCRIPTION:
CREATED:20260423T171856Z
DTEND:20270206T225900Z
END:VEVENT
END:VCALENDAR
