BEGIN:VCALENDAR
PRODID:-//spiritec//spiritec media library//EN
VERSION:2.0
METHOD:PUBLISH
BEGIN:VEVENT
UID:ical-2026-12-22-2104
DTSTART:20261222T170000Z
DTSTAMP:20260423T171929Z
LOCATION:Staatsoperette Saal
SUMMARY:Alice im Wunderland
DESCRIPTION:
CREATED:20260423T171929Z
DTEND:20261222T191500Z
END:VEVENT
END:VCALENDAR
