BEGIN:VCALENDAR
PRODID:-//spiritec//spiritec media library//EN
VERSION:2.0
METHOD:PUBLISH
BEGIN:VEVENT
UID:ical-2026-12-01-2098
DTSTART:20261201T100000Z
DTSTAMP:20260423T172023Z
LOCATION:Staatsoperette Saal
SUMMARY:Alice im Wunderland
DESCRIPTION:
CREATED:20260423T172023Z
DTEND:20261201T121500Z
END:VEVENT
END:VCALENDAR
