BEGIN:VCALENDAR
PRODID:-//spiritec//spiritec media library//EN
VERSION:2.0
METHOD:PUBLISH
BEGIN:VEVENT
UID:ical-2026-11-28-2096
DTSTART:20261128T183000Z
DTSTAMP:20260423T172117Z
LOCATION:Staatsoperette Saal
SUMMARY:Alice im Wunderland
DESCRIPTION:
CREATED:20260423T172117Z
DTEND:20261128T204500Z
END:VEVENT
END:VCALENDAR
